BEGIN:VCALENDAR
VERSION:2.0
PRODID:-//eventon.com NONSGML v1.0//EN
CALSCALE:GREGORIAN
METHOD:PUBLISH
BEGIN:VEVENT
UID:69e761939c89a
DTSTAMP:20260421T113755Z
DTSTART:20220614T180000Z
DTEND:20220614T200000Z
LOCATION:Cinéma CinépointCom Place de l'étang\,  Marche-en-Famenne
SUMMARY:"Animals": projection + rencontre avec Hassan Jarfi
DESCRIPTION:Synopsis: Brahim est un jeune homme secrètement gay. Il est a
 ussi la joie de vivre de sa mère\,  qui espère qu&rsquo;un jour il trouve
 ra l&rsquo;amour de sa vie\,  deviendra père de famille et les rendra tous
  fiers. Lors de la fête d&rsquo;anniversaire de sa mère\,  les tensions a
 utour de sa personnalité[..]\nhttps://convention2022.laicite.be/events/ani
 mals-projection-rencontre-avec-hassan-jarfi/
URL:https://convention2022.laicite.be/events/animals-projection-rencontre-avec-hassan-jarfi/
END:VEVENT
END:VCALENDAR