BEGIN:VCALENDAR
VERSION:2.0
PRODID:-//eventon.com NONSGML v1.0//EN
CALSCALE:GREGORIAN
METHOD:PUBLISH
BEGIN:VEVENT
UID:69ed7654ee8aa
DTSTAMP:20260426T022004Z
DTSTART:20220615T163000Z
DTEND:20220615T190000Z
LOCATION:Maison de la Laïcité de Mouscron 45 Rue de Bruxelles\,  Mouscron
SUMMARY:Inégalités de genre·s et précarité | Obscurantisme religieux: une voie vers la précarisation des femmes?
DESCRIPTION:Au croisement des regards laïques et de la société civile: q
 uels constats\,  propositions et revendications à porter par le mouvement 
 en termes d’inégalité·s de genre face à la précarité et particuliè
 rement face à l’obscurantisme religieux? Ateliers participatifs nourris 
 par l’intervention de: Djemila Benhabib\,  chargée de missions au Centre
  d’Action Laïque\, [..]\nhttps://convention2022.laicite.be/events/inegal
 ites-de-genre%c2%b7s-et-precarite-obscurantisme-religieux-une-voie-vers-la-
 precarisation-des-femmes/
URL:https://convention2022.laicite.be/events/inegalites-de-genre%c2%b7s-et-precarite-obscurantisme-religieux-une-voie-vers-la-precarisation-des-femmes/
END:VEVENT
END:VCALENDAR