BEGIN:VCALENDAR
VERSION:2.0
PRODID:-//eventon.com NONSGML v1.0//EN
CALSCALE:GREGORIAN
METHOD:PUBLISH
BEGIN:VEVENT
UID:69ed765312615
DTSTAMP:20260426T022003Z
DTSTART:20220624T101500Z
DTEND:20220624T113000Z
LOCATION:Point Culture Charleroi 1 Avenue de l'Europe\,  Charleroi
SUMMARY:Pouvons-nous nous adapter aux changements?
DESCRIPTION:Ã€ partir dâ€™extraits de film (Koyaanisqatsi de Reggio et Into
  the Wild de Penn)\,  il sâ€™agira de sâ€™interroger sur le sens de notre a
 daptation au monde. Les changements sont-ils bÃ©nÃ©fiques? Doit-on sâ€™adap
 ter au monde ou adapter le monde Ã  soi? Quelle est la diffÃ©rence entre sâ
 €™adapter et se conformer? Peut-on[..]\nhttps://convention2022.laicite.be/e
 vents/pouvons-nous-nous-adapter-aux-changements/
URL:https://convention2022.laicite.be/events/pouvons-nous-nous-adapter-aux-changements/
END:VEVENT
END:VCALENDAR