BEGIN:VCALENDAR
VERSION:2.0
PRODID:-//eventon.com NONSGML v1.0//EN
CALSCALE:GREGORIAN
METHOD:PUBLISH
BEGIN:VEVENT
UID:69ed765311c94
DTSTAMP:20260426T022003Z
DTSTART:20220519T163000Z
DTEND:20220519T190000Z
LOCATION:Mundaneum 76 Rue de Nimy\,  7000 Mons
SUMMARY:Inégalités de genre·s et précarité
DESCRIPTION:« La précarité qui touche tant de femmes et d’enfants est
  la pointe d’un iceberg constitué de discriminations cumulées »\,  S.
  Lausberg. C’est particulièrement au travers de ces mécanismes complexe
 s qui additionnent la structuration sexiste de notre société et le regard
  qu’elle porte sur les plus vulnérables que Picardie Laïque a décidé[
 ..]\nhttps://convention2022.laicite.be/events/inegalites-de-genre%c2%b7s-et
 -precarite/
URL:https://convention2022.laicite.be/events/inegalites-de-genre%c2%b7s-et-precarite/
END:VEVENT
END:VCALENDAR